BEGIN:VCALENDAR
VERSION:2.0
PRODID:-//Department Of Education//26b5d2f3-27a0-417c-ab9f-7648512eaeed
BEGIN:VTIMEZONE
TZID:Australia/Sydney
TZURL:http://tzurl.org/zoneinfo-outlook/Australia/Sydney
X-LIC-LOCATION:Australia/Sydney
BEGIN:STANDARD
TZOFFSETFROM:+1100
TZOFFSETTO:+1000
TZNAME:AEST
DTSTART:19700405T030000
RRULE:FREQ=YEARLY;BYMONTH=4;BYDAY=1SU
END:STANDARD
BEGIN:DAYLIGHT
TZOFFSETFROM:+1000
TZOFFSETTO:+1100
TZNAME:AEDT
DTSTART:19701004T020000
RRULE:FREQ=YEARLY;BYMONTH=10;BYDAY=1SU
END:DAYLIGHT
END:VTIMEZONE
CALSCALE:GREGORIAN
X-WR-TIMEZONE:Australia/Sydney
BEGIN:VEVENT
DTSTART;TZID=Australia/Sydney:20200217T093000
DTEND;TZID=Australia/Sydney:20200217T150000
DTSTAMP:20200217T000000Z
UID:04c74123-81f1-43e2-b98c-067ed4c7030a
LOCATION:Epping Aquatic Centre, Dence Park
SUMMARY;LANGUAGE=en-us:Swimming Carnival
SEQUENCE:0
DESCRIPTION:This event is for all students in Years 3-6 (and those Year 2s who are 8 years old in 2020 and can competently swim 50 metres). Please be advised that there will not be a swim test on the day of the Carnival. Please fill out your presmission note carefully. You are invited to wear your child's house colours and support them on the day. Spectator entry to the pool is $3.50 to be paid upon entry to the pool. Permission notes and payments will not be accepted after the due date of Wednesday 12 February. 
END:VEVENT
TRANSP:TRANSPARENT
END:VCALENDAR
